BEGIN:VCALENDAR
VERSION:2.0
PRODID:-//biblioteca-di-zan-incontro-di-sostegno-alla-genitorialit
BEGIN:VEVENT
DTSTAMP:20260423T170444Z
DTSTART:20260326T173000Z
DTEND:20260326T200000Z
SUMMARY:Biblioteca di Zanè: incontro di sostegno alla genitorialità
LOCATION:Biblioteca di Zanè
DESCRIPTION:
END:VEVENT
END:VCALENDAR