BEGIN:VCALENDAR
VERSION:2.0
PRODID:-//Possiamo-aiutare-i-bambini-a-crescere-Tu-Puoi
BEGIN:VEVENT
DTSTAMP:20260423T170356Z
DTSTART:20230412T000000Z
DTEND:20230412T235959Z
SUMMARY:Possiamo aiutare i bambini a crescere? Tu Puoi?
LOCATION:NULL
DESCRIPTION:
END:VEVENT
END:VCALENDAR