BEGIN:VCALENDAR
VERSION:2.0
PRODID:-//Incontri-per-genitori-separati-o-che-stanno-per-separarsi
BEGIN:VEVENT
DTSTAMP:20260423T170159Z
DTSTART:20230504T000000Z
DTEND:20230511T235959Z
SUMMARY:Incontri per genitori separati o che stanno per separarsi
LOCATION:NULL
DESCRIPTION:
END:VEVENT
END:VCALENDAR