BEGIN:VCALENDAR
VERSION:2.0
PRODID:-//Gruppo-di-parola-delle-scuole-per-i-figli-di-genitori-separati
BEGIN:VEVENT
DTSTAMP:20260423T170444Z
DTSTART:20230504T000000Z
DTEND:20230504T235959Z
SUMMARY:Gruppo di parola delle scuole per i figli di genitori separati.
LOCATION:NULL
DESCRIPTION:
END:VEVENT
END:VCALENDAR