BEGIN:VCALENDAR
VERSION:2.0
PRODID:-//Disturbi-alimentari-tra-scuola-e-sport
BEGIN:VEVENT
DTSTAMP:20260423T165332Z
DTSTART:20230427T000000Z
DTEND:20230427T235959Z
SUMMARY:Disturbi alimentari tra scuola e sport
LOCATION:NULL
DESCRIPTION:
END:VEVENT
END:VCALENDAR